BEGIN:VCALENDAR
VERSION:2.0
PRODID:-//horizon-training.presencehost.net//NONSGML kigkonsult.se iCalcrea
 tor 2.30.10//
CALSCALE:GREGORIAN
METHOD:PUBLISH
UID:7665f82c-d4b3-48bd-8baf-d98908fee67c
X-WR-CALDESC:Monthly Board Meeting
X-WR-RELCALID:8497e0c080b5656ad331d1f08ff1af61
X-WR-TIMEZONE:America/Chicago
BEGIN:VTIMEZONE
TZID:America/Chicago
BEGIN:STANDARD
TZNAME:CST
DTSTART:20221106T020000
TZOFFSETFROM:-0500
TZOFFSETTO:-0600
RDATE:20231105T020000
END:STANDARD
BEGIN:DAYLIGHT
TZNAME:CDT
DTSTART:20230312T020000
TZOFFSETFROM:-0600
TZOFFSETTO:-0500
RDATE:20240310T020000
END:DAYLIGHT
END:VTIMEZONE
BEGIN:VEVENT
UID:68052dd4-a2bf-413a-ba95-08d983e4898f
DTSTAMP:20260424T023646Z
DESCRIPTION:Monthly Board Meeting
DTSTART;TZID=America/Chicago:20230414T183000
DTEND;TZID=America/Chicago:20230414T200000
LOCATION:Atrium Meeting Room
SUMMARY:Board Meeting
END:VEVENT
END:VCALENDAR
