BEGIN:VCALENDAR
VERSION:2.0
PRODID:-//horizon-training.presencehost.net//NONSGML kigkonsult.se iCalcrea
 tor 2.30.10//
CALSCALE:GREGORIAN
METHOD:PUBLISH
UID:2238c8d9-14f3-4597-9f3c-cb10543cb0c9
X-WR-CALDESC:Monthly Board Meeting
X-WR-RELCALID:2f737059d8c2f9f6f6d454135a780714
X-WR-TIMEZONE:America/Chicago
BEGIN:VTIMEZONE
TZID:America/Chicago
BEGIN:STANDARD
TZNAME:CST
DTSTART:20221106T020000
TZOFFSETFROM:-0500
TZOFFSETTO:-0600
RDATE:20231105T020000
END:STANDARD
BEGIN:DAYLIGHT
TZNAME:CDT
DTSTART:20220313T020000
TZOFFSETFROM:-0600
TZOFFSETTO:-0500
RDATE:20230312T020000
RDATE:20240310T020000
END:DAYLIGHT
END:VTIMEZONE
BEGIN:VEVENT
UID:92996ed1-9705-4735-bca6-d20527913e88
DTSTAMP:20260424T074916Z
DESCRIPTION:Monthly Board Meeting
DTSTART;TZID=America/Chicago:20230113T183000
DTEND;TZID=America/Chicago:20230113T200000
LOCATION:Atrium Meeting Room
SUMMARY:Board Meeting
END:VEVENT
END:VCALENDAR
