BEGIN:VCALENDAR
VERSION:2.0
PRODID:-//horizon-training.presencehost.net//NONSGML kigkonsult.se iCalcrea
 tor 2.30.10//
CALSCALE:GREGORIAN
METHOD:PUBLISH
UID:923402fb-1fec-418f-a5f9-5d0c8e4275bd
X-WR-CALDESC:
X-WR-RELCALID:c3e652735ce3a00c0e3885c51a421b93
X-WR-TIMEZONE:America/Chicago
BEGIN:VTIMEZONE
TZID:America/Chicago
BEGIN:STANDARD
TZNAME:CST
DTSTART:20221106T020000
TZOFFSETFROM:-0500
TZOFFSETTO:-0600
RDATE:20231105T020000
END:STANDARD
BEGIN:DAYLIGHT
TZNAME:CDT
DTSTART:20220313T020000
TZOFFSETFROM:-0600
TZOFFSETTO:-0500
RDATE:20230312T020000
RDATE:20240310T020000
END:DAYLIGHT
END:VTIMEZONE
BEGIN:VEVENT
UID:54374628-52fd-4df6-9b95-ca2143906a40
DTSTAMP:20260424T074758Z
DESCRIPTION:
DTSTART;TZID=America/Chicago:20230111T000000
DTEND;TZID=America/Chicago:20230114T235900
LOCATION:
SUMMARY:Conference
END:VEVENT
END:VCALENDAR
