BEGIN:VCALENDAR
VERSION:2.0
PRODID:-//horizon-training.presencehost.net//NONSGML kigkonsult.se iCalcrea
 tor 2.30.10//
CALSCALE:GREGORIAN
METHOD:PUBLISH
UID:ddfbfb7f-83c2-49a5-988b-f7ba9e5c594e
X-WR-CALDESC:Monthly Board Meeting
X-WR-RELCALID:2407c5ff4c1736569c6117b7b6e112be
X-WR-TIMEZONE:America/Chicago
BEGIN:VTIMEZONE
TZID:America/Chicago
BEGIN:STANDARD
TZNAME:CST
DTSTART:20221106T020000
TZOFFSETFROM:-0500
TZOFFSETTO:-0600
RDATE:20231105T020000
END:STANDARD
BEGIN:DAYLIGHT
TZNAME:CDT
DTSTART:20220313T020000
TZOFFSETFROM:-0600
TZOFFSETTO:-0500
RDATE:20230312T020000
RDATE:20240310T020000
END:DAYLIGHT
END:VTIMEZONE
BEGIN:VEVENT
UID:30051169-2314-475e-a6d5-f97f2760e157
DTSTAMP:20260424T092910Z
DESCRIPTION:Monthly Board Meeting
DTSTART;TZID=America/Chicago:20221209T183000
DTEND;TZID=America/Chicago:20221209T200000
LOCATION:Atrium Meeting Room
SUMMARY:Board Meeting
END:VEVENT
END:VCALENDAR
