BEGIN:VCALENDAR
VERSION:2.0
PRODID:-//horizon-training.presencehost.net//NONSGML kigkonsult.se iCalcrea
 tor 2.30.10//
CALSCALE:GREGORIAN
METHOD:PUBLISH
UID:18933742-08d8-46aa-a2c2-2f3734d52f72
X-WR-CALDESC:Volunteer Appreciation Week is a monthly celebration observed 
 to promote and show appreciation for volunteerism and volunteering.\n\n
X-WR-RELCALID:621ddd31066ab939a1b2f19e61337ffa
X-WR-TIMEZONE:America/Chicago
BEGIN:VTIMEZONE
TZID:America/Chicago
BEGIN:STANDARD
TZNAME:CST
DTSTART:20211107T020000
TZOFFSETFROM:-0500
TZOFFSETTO:-0600
RDATE:20221106T020000
RDATE:20231105T020000
END:STANDARD
BEGIN:DAYLIGHT
TZNAME:CDT
DTSTART:20220313T020000
TZOFFSETFROM:-0600
TZOFFSETTO:-0500
RDATE:20230312T020000
RDATE:20240310T020000
END:DAYLIGHT
END:VTIMEZONE
BEGIN:VEVENT
UID:7883b52c-11f2-4263-8ca6-b15fcc5f5c00
DTSTAMP:20260424T143117Z
DESCRIPTION:Volunteer Appreciation Week is a monthly celebration observed t
 o promote and show appreciation for volunteerism and volunteering.\n\n
DTSTART;TZID=America/Chicago:20220918T000000
DTEND;TZID=America/Chicago:20220924T235900
LOCATION:
SUMMARY:Volunteer Appreciation Week
END:VEVENT
END:VCALENDAR
