BEGIN:VCALENDAR
VERSION:2.0
PRODID:-//horizon-training.presencehost.net//NONSGML kigkonsult.se iCalcrea
 tor 2.30.10//
CALSCALE:GREGORIAN
METHOD:PUBLISH
UID:d2a9131a-9017-422d-82bc-aa68f2257c2c
X-WR-CALDESC:Monthly Board Meeting
X-WR-RELCALID:1bf0e7a3e2c67c992970cf53da2a1b9d
X-WR-TIMEZONE:America/Chicago
BEGIN:VTIMEZONE
TZID:America/Chicago
BEGIN:STANDARD
TZNAME:CST
DTSTART:20211107T020000
TZOFFSETFROM:-0500
TZOFFSETTO:-0600
RDATE:20221106T020000
RDATE:20231105T020000
END:STANDARD
BEGIN:DAYLIGHT
TZNAME:CDT
DTSTART:20220313T020000
TZOFFSETFROM:-0600
TZOFFSETTO:-0500
RDATE:20230312T020000
END:DAYLIGHT
END:VTIMEZONE
BEGIN:VEVENT
UID:a64194d2-db9a-4caf-9da5-8abab8241b48
DTSTAMP:20260424T210818Z
DESCRIPTION:Monthly Board Meeting
DTSTART;TZID=America/Chicago:20220513T183000
DTEND;TZID=America/Chicago:20220513T200000
LOCATION:Atrium Meeting Room
SUMMARY:Board Meeting
END:VEVENT
END:VCALENDAR
